BEGIN:VCALENDAR
VERSION:2.0
PRODID:-//Ocean Swim Orange County - ECPv6.15.20//NONSGML v1.0//EN
CALSCALE:GREGORIAN
METHOD:PUBLISH
X-ORIGINAL-URL:https://oceanswimoc.com
X-WR-CALDESC:Events for Ocean Swim Orange County
REFRESH-INTERVAL;VALUE=DURATION:PT1H
X-Robots-Tag:noindex
X-PUBLISHED-TTL:PT1H
BEGIN:VTIMEZONE
TZID:America/Los_Angeles
BEGIN:DAYLIGHT
TZOFFSETFROM:-0800
TZOFFSETTO:-0700
TZNAME:PDT
DTSTART:20200308T100000
END:DAYLIGHT
BEGIN:STANDARD
TZOFFSETFROM:-0700
TZOFFSETTO:-0800
TZNAME:PST
DTSTART:20201101T090000
END:STANDARD
BEGIN:DAYLIGHT
TZOFFSETFROM:-0800
TZOFFSETTO:-0700
TZNAME:PDT
DTSTART:20210314T100000
END:DAYLIGHT
BEGIN:STANDARD
TZOFFSETFROM:-0700
TZOFFSETTO:-0800
TZNAME:PST
DTSTART:20211107T090000
END:STANDARD
BEGIN:DAYLIGHT
TZOFFSETFROM:-0800
TZOFFSETTO:-0700
TZNAME:PDT
DTSTART:20220313T100000
END:DAYLIGHT
BEGIN:STANDARD
TZOFFSETFROM:-0700
TZOFFSETTO:-0800
TZNAME:PST
DTSTART:20221106T090000
END:STANDARD
END:VTIMEZONE
BEGIN:VEVENT
DTSTART;TZID=America/Los_Angeles:20210706T003000
DTEND;TZID=America/Los_Angeles:20210706T003000
DTSTAMP:20260422T191721
CREATED:20210706T085401Z
LAST-MODIFIED:20210706T085401Z
UID:218-1625531400-1625531400@oceanswimoc.com
SUMMARY:HB Tower 9 Swim\, Tuesday\, July 6th @ 7:30 AM
DESCRIPTION:You know the drill: meet at Tower 9 at 7:30 am. We’ll discuss conditions\, pair up and then enter the water ~7:40am. \nAs swells are mostly from the south\, we’ll swim according to time. We’ll agree on a length of time beforehand. For example\, if it’s 40 minutes\, we’ll swim ~25 minutes against the current and then ~15 minutes with the current. I do apologize for sounding like an algebra problem. \nAll levels welcome. Most of us average 1:45-2:20/100m.
URL:https://oceanswimoc.com/event/hb-tower-9-swim-tuesday-july-6th-730-am/
END:VEVENT
BEGIN:VEVENT
DTSTART;TZID=America/Los_Angeles:20210701T003000
DTEND;TZID=America/Los_Angeles:20210701T003000
DTSTAMP:20260422T191721
CREATED:20210628T031841Z
LAST-MODIFIED:20210628T031841Z
UID:214-1625099400-1625099400@oceanswimoc.com
SUMMARY:HB Tower 9 Swim\, Thursday\, July 1 @ 7:30 AM
DESCRIPTION:You know the drill: meet at Tower 9 at 7:30 am. We’ll discuss conditions\, pair up and then enter the water ~7:40am. \nWe’ll swim about 3 towers\, ~1800m. All levels welcome. Most of us average 1:45-2:20/100m.
URL:https://oceanswimoc.com/event/hb-tower-9-swim-thursday-july-1-730-am/
END:VEVENT
BEGIN:VEVENT
DTSTART;TZID=America/Los_Angeles:20210629T003000
DTEND;TZID=America/Los_Angeles:20210629T003000
DTSTAMP:20260422T191721
CREATED:20210628T031754Z
LAST-MODIFIED:20210628T031754Z
UID:212-1624926600-1624926600@oceanswimoc.com
SUMMARY:HB Tower 9 Swim\, Tuesday\, June 29th\, 7:30 AM
DESCRIPTION:You know the drill: meet at Tower 9 at 7:30 am. We’ll discuss conditions\, pair up and then enter the water ~7:40am. \nWe’ll swim about 3 towers\, ~1800m. All levels welcome. Most of us average 1:45-2:20/100m. \nFor those new to ocean swimming\, BRING FINS! They’ll give you power when you need to get through the waves. And you’ll still be able to get to Zones 1-2.
URL:https://oceanswimoc.com/event/hb-tower-9-swim-tuesday-june-29th-730-am/
END:VEVENT
BEGIN:VEVENT
DTSTART;TZID=America/Los_Angeles:20210627T010000
DTEND;TZID=America/Los_Angeles:20210627T010000
DTSTAMP:20260422T191721
CREATED:20210625T081327Z
LAST-MODIFIED:20210625T081327Z
UID:210-1624755600-1624755600@oceanswimoc.com
SUMMARY:Sunday\, June 27th at 8AM.
DESCRIPTION:We’re swimming from Tower 9. Distance depends on who shows up along with water conditions. \nDon’t always believe MagicSeaweed or Surfline. Water temp was 59 F Thursday\, despite much higher forecasts from all other sites. \nYou can overcome your fear of the water. Maybe see dolphins really close up like we did Thursday! \nWill be an awesome swim!
URL:https://oceanswimoc.com/event/sunday-june-27th-at-8am/
END:VEVENT
BEGIN:VEVENT
DTSTART;TZID=America/Los_Angeles:20210622T003000
DTEND;TZID=America/Los_Angeles:20210622T003000
DTSTAMP:20260422T191721
CREATED:20210621T021140Z
LAST-MODIFIED:20210621T021140Z
UID:204-1624321800-1624321800@oceanswimoc.com
SUMMARY:HB Tower 9 Swim\, Tuesday\, June 22nd\, 7:30 AM
DESCRIPTION:You know the drill: meet at Tower 9 at 7:30 am. We’ll discuss conditions\, pair up and then enter the water ~7:40am. \nWe’ll swim about 3 towers\, ~1800m. All levels welcome. Most of us average 1:45-2:20/100m.
URL:https://oceanswimoc.com/event/hb-tower-9-swim-tuesday-june-22nd-730-am/
END:VEVENT
BEGIN:VEVENT
DTSTART;TZID=America/Los_Angeles:20210620T010000
DTEND;TZID=America/Los_Angeles:20210620T100000
DTSTAMP:20260422T191721
CREATED:20210621T021233Z
LAST-MODIFIED:20210623T071316Z
UID:207-1624150800-1624183200@oceanswimoc.com
SUMMARY:HB Tower 9 Swim\, Thursday\, June 24th at 7:30 AM
DESCRIPTION:You know the drill: meet at Tower 9 at 7:30 am. We’ll discuss conditions\, pair up and then enter the water ~7:40am. \nWe’ll swim about 3 towers\, ~1800m. All levels welcome. Most of us average 1:45-2:20/100m. \nUpdate: Might be big waves. If so\, we’ll swim between shorebreak and outer break. So\, it won’t be high yardage as much as wave acclimation.
URL:https://oceanswimoc.com/event/hb-tower-9-swim-thursday-june-24th-at-730-am/
END:VEVENT
BEGIN:VEVENT
DTSTART;TZID=America/Los_Angeles:20210620T010000
DTEND;TZID=America/Los_Angeles:20210620T010000
DTSTAMP:20260422T191721
CREATED:20210613T071056Z
LAST-MODIFIED:20210613T071116Z
UID:192-1624150800-1624150800@oceanswimoc.com
SUMMARY:Summer Solstice Sunday Swim\, June 20th @ 8am
DESCRIPTION:We’re swimming from Tower 9 to the buoy. That’s ~800m roundtrip. \nThose of you seeking more of a swim can do it twice for 1.6 km\, ~1 mile. \nCome and enjoy the warmer water and the warm ambient temperature. \nWill be an awesome swim!
URL:https://oceanswimoc.com/event/summer-solstice-sunday-swim-june-20th-8am/
END:VEVENT
BEGIN:VEVENT
DTSTART;TZID=America/Los_Angeles:20210618T003000
DTEND;TZID=America/Los_Angeles:20210618T003000
DTSTAMP:20260422T191721
CREATED:20210614T054819Z
LAST-MODIFIED:20210614T054819Z
UID:201-1623976200-1623976200@oceanswimoc.com
SUMMARY:HB Tower 9 Swim\, Friday\, June 18th at 7:30 AM
DESCRIPTION:You know the drill: meet at Tower 9 at 7:30 am. We’ll discuss conditions\, pair up and then enter the water ~7:40am. \nWe’ll swim about 3 towers\, ~1800m. All levels welcome. Most of us average 1:45-2:20/100m.
URL:https://oceanswimoc.com/event/hb-tower-9-swim-friday-june-18th-at-730-am/
END:VEVENT
BEGIN:VEVENT
DTSTART;TZID=America/Los_Angeles:20210617T003000
DTEND;TZID=America/Los_Angeles:20210617T003000
DTSTAMP:20260422T191721
CREATED:20210614T054728Z
LAST-MODIFIED:20210614T054728Z
UID:199-1623889800-1623889800@oceanswimoc.com
SUMMARY:HB Tower 9 Swim\, Thursday\, June 17th\, at 7:30 AM
DESCRIPTION:You know the drill: meet at Tower 9 at 7:30 am. We’ll discuss conditions\, pair up and then enter the water ~7:40am. \nWe’ll swim about 3 towers\, ~1800m. All levels welcome. Most of us average 1:45-2:20/100m.
URL:https://oceanswimoc.com/event/hb-tower-9-swim-thursday-june-17th-at-730-am/
END:VEVENT
BEGIN:VEVENT
DTSTART;TZID=America/Los_Angeles:20210615T003000
DTEND;TZID=America/Los_Angeles:20210615T003000
DTSTAMP:20260422T191721
CREATED:20210614T054619Z
LAST-MODIFIED:20210614T054739Z
UID:197-1623717000-1623717000@oceanswimoc.com
SUMMARY:HB Tower 9 Swim\, Tuesday\, June 15th at 7:30 AM
DESCRIPTION:You know the drill: meet at Tower 9 at 7:30 am. We’ll discuss conditions\, pair up and then enter the water ~7:40am. \nWe’ll swim about 3 towers\, ~1800m. All levels welcome. Most of us average 1:45-2:20/100m.
URL:https://oceanswimoc.com/event/hb-tower-9-swim-tuesday-june-15th-at-730-am/
END:VEVENT
BEGIN:VEVENT
DTSTART;TZID=America/Los_Angeles:20210611T003000
DTEND;TZID=America/Los_Angeles:20210611T003000
DTSTAMP:20260422T191721
CREATED:20210609T035612Z
LAST-MODIFIED:20210609T035803Z
UID:179-1623371400-1623371400@oceanswimoc.com
SUMMARY:HB Tower 9 Swim\, Friday\, June 11th at 7:30 AM
DESCRIPTION:We meet at Tower 9 at 7:30 am\, in the water by 7:40 am. \nYou’ll be swimming beyond the breakers and regrouping before we head south. Before we head out\, we agree upon which tower we’ll swim to. Generally\, 2 towers is ~1000m\, 3 towers is ~1500m\, and 4 towers is ~2000m. \nHowever\, if the current is stronger\, that adds to the total meters of your swim. \nWind will be negligible. Swells are from the south and west\, so we’ll head south towards Newport Beach. \nWe’ll have enough people to choose between 2 distances\, ~1\,000m and ~2\,000m. \nYou’re welcome to join us. \nMagicSeaweed Forecast: \nhttps://magicseaweed.com/Huntington-Pier-Surf-Report/286/ \nLive Cam via Surfline: \nhttps://www.surfline.com/surf-report/huntington-st-overview/58bdebbc82d034001252e3d2
URL:https://oceanswimoc.com/event/hb-tower-9-swim-friday-june-11th-at-730-am/
END:VEVENT
BEGIN:VEVENT
DTSTART;TZID=America/Los_Angeles:20210609T010000
DTEND;TZID=America/Los_Angeles:20210609T100000
DTSTAMP:20260422T191721
CREATED:20210610T013002Z
LAST-MODIFIED:20210610T013002Z
UID:190-1623200400-1623232800@oceanswimoc.com
SUMMARY:Sunday Swim\, June 13th at 8 am\, Tower 9\, Huntington Beach (City Beach)
DESCRIPTION:Tower 9\, early 2021\n				\n			\n				\n			\n				\n				Tower 9\, May\, 2021\n				\n			\n				\n			\n				\n				Tower 9\, May\, 2021\n				\n		\n\nYou’ll meet us at Tower 9 at 8 am. We’ll discuss conditions and start swimming ~8:10am. \nWater is warming up\, probably 63-64 F\, good for a short-sleeved swimming wetsuit. \nYou’ll have the option of swimming anywhere from 1\,000-2\,500 m. We can all decide and plan in advance so we have an accurate headcount. Basically\, 2 lifeguard towers is 1000m\, 3 towers is 1500m\, and 4 towers is 2000m including the swim beyond the breakers and back. \nYou’re invited and we’d love to see you there!
URL:https://oceanswimoc.com/event/sunday-swim-june-13th-at-8-am-tower-9-huntington-beach-city-beach/
END:VEVENT
BEGIN:VEVENT
DTSTART;TZID=America/Los_Angeles:20210609T003000
DTEND;TZID=America/Los_Angeles:20210609T003000
DTSTAMP:20260422T191721
CREATED:20210608T223819Z
LAST-MODIFIED:20210609T035454Z
UID:173-1623198600-1623198600@oceanswimoc.com
SUMMARY:HB Tower 9 Swim\, Wednesday\, June 9th at 7:30 AM
DESCRIPTION:We meet at Tower 9 at 7:30 am\, in the water by 7:40 am. \nYou’ll be swimming beyond the breakers and regrouping before we head south. Before we head out\, we agree upon which tower we’ll swim to. Generally\, 2 towers is ~1000m\, 3 towers is ~1500m\, and 4 towers is ~2000m. \nHowever\, if the current is stronger\, that adds to the total meters of your swim. \nWind will be negligible. Swells are from the south and west\, so we’ll head south towards Newport Beach. \nWe’ll have enough people to choose between 2 distances\, ~1\,000m and ~2\,000m. \nYou’re welcome to join us.
URL:https://oceanswimoc.com/event/173/
END:VEVENT
BEGIN:VEVENT
DTSTART;TZID=America/Los_Angeles:20210603T003000
DTEND;TZID=America/Los_Angeles:20210603T003000
DTSTAMP:20260422T191721
CREATED:20210531T044235Z
LAST-MODIFIED:20210531T044905Z
UID:169-1622680200-1622680200@oceanswimoc.com
SUMMARY:HB Tower 9 Swim\, Thursday\, June 3rd at 7:30 am.
DESCRIPTION:Wind will be negligible. Only a single swell\, so we should have plenty of time between bigger waves to duck-dive. \nWe’ll have enough people to choose between 2 distances\, ~1\,000m and ~1\,500m. \nYou’re welcome to join us.
URL:https://oceanswimoc.com/event/hb-tower-9-swim-thursday-june-3rd-at-730-am/
END:VEVENT
BEGIN:VEVENT
DTSTART;TZID=America/Los_Angeles:20210530T003000
DTEND;TZID=America/Los_Angeles:20210531T170000
DTSTAMP:20260422T191721
CREATED:20210531T043728Z
LAST-MODIFIED:20210531T044047Z
UID:167-1622334600-1622480400@oceanswimoc.com
SUMMARY:HB Tower 9 Swim\, Tuesday\, June 1st\, 7:30 am
DESCRIPTION:Swim starts at 7:30 am\, HB CITY Tower 9\, located off PCH and Huntington Street. \nWe’ll discuss conditions\, pair up\, and enter the water about 7:40. \nIf you’re new\, we’ll help you swim out and back\, no worries. \nSwimmers of all abilities welcome!
URL:https://oceanswimoc.com/event/hb-tower-9-swim-tuesday-june-1st-730-am/
END:VEVENT
BEGIN:VEVENT
DTSTART;TZID=America/Los_Angeles:20210527T010000
DTEND;TZID=America/Los_Angeles:20210527T020000
DTSTAMP:20260422T191721
CREATED:20210524T040324Z
LAST-MODIFIED:20210524T041809Z
UID:157-1622077200-1622080800@oceanswimoc.com
SUMMARY:HB Tower 9 Swim\, Thursday\, May 27th at 8 am
DESCRIPTION:
URL:https://oceanswimoc.com/event/hb-tower-9-swim-thursday-may-27th-at-8am/
END:VEVENT
BEGIN:VEVENT
DTSTART;TZID=America/Los_Angeles:20210525T010000
DTEND;TZID=America/Los_Angeles:20210525T020000
DTSTAMP:20260422T191721
CREATED:20210524T040114Z
LAST-MODIFIED:20210524T041736Z
UID:153-1621904400-1621908000@oceanswimoc.com
SUMMARY:HB Tower 9 Ocean Swim\, Tuesday\, May 29th at 8 a.m.
DESCRIPTION:
URL:https://oceanswimoc.com/event/hb-tower-9-ocean-swim/
LOCATION:HB Tower 9 Swim\, Huntington Street & PCH\, Huntington Beach\, 92648\, United States
END:VEVENT
END:VCALENDAR